BEGIN:VCALENDAR
VERSION:2.0
PRODID:-//https://arcea-cesta.ovh///NONSGML kigkonsult.se iCalcreator 2.10.15//
METHOD:PUBLISH
BEGIN:VEVENT
UID:20260422T124944CEST-5804UaEamU@https://arcea-cesta.ovh/
DTSTAMP:20260422T104944Z
DESCRIPTION:Bulletin d'inscription en ligne : \nFiche de présentation : \nB
 ulletin d'inscription papier : \n \n \n \n \n\n \n\n \n \n  https://arcea-
 cesta.ovh/index.php/activites/calendrier-dactivites-voyages-visites-repas/
 calendrier-evenements-passes/evenement/47-participation-a-un-escape-game
DTSTART:20260225T093000Z
DTEND:20260225T160000Z
LOCATION:Le Passage 36 rue des Menuts 33000 Bordeaux ()
SUMMARY:Participation à un escape game
URL:https://arcea-cesta.ovh/index.php/activites/calendrier-dactivites-voyag
 es-visites-repas/calendrier-evenements-passes/evenement/47-participation-a
 -un-escape-game
END:VEVENT
END:VCALENDAR
