BEGIN:VCALENDAR
VERSION:2.0
PRODID:-//https://arcea-cesta.ovh///NONSGML kigkonsult.se iCalcreator 2.10.15//
METHOD:PUBLISH
BEGIN:VEVENT
UID:20260422T125231CEST-90887vr6Av@https://arcea-cesta.ovh/
DTSTAMP:20260422T105231Z
DESCRIPTION:Fiche descriptive de la visite : \nBulletin d'inscription : \n 
 \n\n  https://arcea-cesta.ovh/index.php/activites/calendrier-dactivites-vo
 yages-visites-repas/calendrier-evenements-passes/evenement/42-visite-de-la
 dduction-deau-a-bordeaux
DTSTART:20250926T070000Z
DTEND:20250926T130000Z
LOCATION:Bordeaux ()
SUMMARY:Visite de l'adduction d'eau à Bordeaux
URL:https://arcea-cesta.ovh/index.php/activites/calendrier-dactivites-voyag
 es-visites-repas/calendrier-evenements-passes/evenement/42-visite-de-laddu
 ction-deau-a-bordeaux
END:VEVENT
END:VCALENDAR
