BEGIN:VCALENDAR
VERSION:2.0
PRODID:-//https://arcea-cesta.ovh///NONSGML kigkonsult.se iCalcreator 2.10.15//
METHOD:PUBLISH
BEGIN:VEVENT
UID:20260422T124800CEST-6381jDBfTP@https://arcea-cesta.ovh/
DTSTAMP:20260422T104800Z
DESCRIPTION:\nBulletin d'inscription en ligne : \nAccès direct au document 
 pdf : \n \n\n https://arcea-cesta.ovh/index.php/activites/calendrier-dacti
 vites-voyages-visites-repas/calendrier-evenements-passes/evenement/39-repa
 s-dautomne
DTSTART:20251112T090000Z
DTEND:20251112T133000Z
LOCATION:Moulin de Canaussèque 33114 Le Barp  (33114 Le Barp)
SUMMARY:Repas d'automne
URL:https://arcea-cesta.ovh/index.php/activites/calendrier-dactivites-voyag
 es-visites-repas/calendrier-evenements-passes/evenement/39-repas-dautomne
END:VEVENT
END:VCALENDAR
