BEGIN:VCALENDAR
VERSION:2.0
PRODID:-//https://arcea-cesta.ovh///NONSGML kigkonsult.se iCalcreator 2.10.15//
METHOD:PUBLISH
BEGIN:VEVENT
UID:20260422T124924CEST-0103WwEcIV@https://arcea-cesta.ovh/
DTSTAMP:20260422T104924Z
DESCRIPTION:Accès direct au fichier PDF : \n \nCette visite a eu beaucoup d
 e succès et le quota de participants a déjà été atteint.\nLes inscriptions
  sont donc closes.\nMerci de ne pas envoyer de bulletin d'inscription ni d
 e réglement pour le repas.\n \n \n https://arcea-cesta.ovh/index.php/activ
 ites/calendrier-dactivites-voyages-visites-repas/calendrier-evenements-pas
 ses/evenement/38-visite-du-lmj
DTSTART:20250919T070000Z
DTEND:20250919T120000Z
LOCATION:CESTA ()
SUMMARY:Visite du LMJ
URL:https://arcea-cesta.ovh/index.php/activites/calendrier-dactivites-voyag
 es-visites-repas/calendrier-evenements-passes/evenement/38-visite-du-lmj
END:VEVENT
END:VCALENDAR
