BEGIN:VCALENDAR
VERSION:2.0
PRODID:-//https://arcea-cesta.ovh///NONSGML kigkonsult.se iCalcreator 2.10.15//
METHOD:PUBLISH
BEGIN:VEVENT
UID:20260422T124944CEST-5736o1cdtI@https://arcea-cesta.ovh/
DTSTAMP:20260422T104944Z
DESCRIPTION:Bulletin d'inscription :  \n \n https://arcea-cesta.ovh/index.p
 hp/activites/calendrier-dactivites-voyages-visites-repas/calendrier-evenem
 ents-passes/evenement/35-repas-dautomne-2024
DTSTART:20241126T110000Z
DTEND:20241126T130000Z
LOCATION:Golf de Pessac ()
SUMMARY:Repas d'automne 2024
URL:https://arcea-cesta.ovh/index.php/activites/calendrier-dactivites-voyag
 es-visites-repas/calendrier-evenements-passes/evenement/35-repas-dautomne-
 2024
END:VEVENT
END:VCALENDAR
