BEGIN:VCALENDAR
VERSION:2.0
PRODID:-//https://arcea-cesta.ovh///NONSGML kigkonsult.se iCalcreator 2.10.15//
METHOD:PUBLISH
BEGIN:VEVENT
UID:20260422T125155CEST-3160siKXZI@https://arcea-cesta.ovh/
DTSTAMP:20260422T105155Z
DESCRIPTION:Bulletin d'inscription : \n \nALSYMEX est une entreprise indust
 rielle qui regroupe six anciennes filiales du groupe ALCEN : ALSYOM\, ALYN
 OX\, ATMOSTAT\, CHAMPALLE\, SEIV et SIRATECH. ALSYMEX intervient dans les 
 domaines de la Défense & Sécurité\, de l'Énergie\, de l'Aéronautique & Spa
 tial\, ainsi que dans les Grands Instruments Scientifiques.\nCertains mail
 lons de cette entreprise de pointe aux noms évocateurs pour beaucoup d'ent
 re nous SEIV\, ATMOSTAT pour ne citer que ces deux\, ont collaboré depuis 
 les années 70 à de nombreux projets de la DAM que ce soit des projets arme
 s (outillages pour moyens d'essais\, prototypage des outillages de montage
 s) ou plus récemment à des projets d’installation et de maintenance (LIL/L
 MJ). ALSYMEX contribue également à des projets du CEA civil (RJH) ou inter
 nationaux (ITER).\nLe site de Mérignac possède des moyens importants parti
 culièrement intéressants. Le Directeur Général d’ALSYMEX Fabien SENTENAC e
 t le Directeur du Site de Mérignac Loic AUTHESSERRE nous proposent une vis
 ite le 22 Novembre prochain.\nIls nous feront une présentation générale du
  groupe ALSYMEX puis un repas convivial dans leurs locaux au cours duquel 
 nous pourrons discuter avec les personnels d’ALSYMEX que nombre d’entre no
 us connaissent. L’après midi sera consacré à une visite des installation d
 ’ALSYMEX.\nPour des raisons pratiques\, le nombre de participants est limi
 té à 30 personnes et les conjoints sont les bienvenus.\nProfitez de cette 
 occasion unique en vous inscrivant à l'aide du bulletin d'inscription ci-d
 essous.\n \nPour mieux connaître l’entreprise vous pouvez aller sur leur s
 ite :\nhttps://www.alsymex-alcen.com/alsymex\n \n https://arcea-cesta.ovh/
 index.php/activites/calendrier-dactivites-voyages-visites-repas/calendrier
 -evenements-passes/evenement/34-visite-de-lusine-alsymex-a-merignac
DTSTART:20241122T090000Z
DTEND:20241122T160000Z
LOCATION:ALSYMEX Mérignac ()
SUMMARY:Visite de l'usine ALSYMEX à Mérignac
URL:https://arcea-cesta.ovh/index.php/activites/calendrier-dactivites-voyag
 es-visites-repas/calendrier-evenements-passes/evenement/34-visite-de-lusin
 e-alsymex-a-merignac
END:VEVENT
END:VCALENDAR
