BEGIN:VCALENDAR
VERSION:2.0
PRODID:-//https://arcea-cesta.ovh///NONSGML kigkonsult.se iCalcreator 2.10.15//
METHOD:PUBLISH
BEGIN:VEVENT
UID:20260422T124833CEST-1372C2Madg@https://arcea-cesta.ovh/
DTSTAMP:20260422T104833Z
DESCRIPTION:Accès direct au fichier pdf : \nBulletin d'inscription :  \n \n
 \n  https://arcea-cesta.ovh/index.php/activites/calendrier-dactivites-voya
 ges-visites-repas/calendrier-evenements-passes/evenement/33-visite-du-cent
 re-de-gramat
DTSTART:20241024T070000Z
DTEND:20241024T100000Z
LOCATION:Gramat ()
SUMMARY:Visite du centre de Gramat
URL:https://arcea-cesta.ovh/index.php/activites/calendrier-dactivites-voyag
 es-visites-repas/calendrier-evenements-passes/evenement/33-visite-du-centr
 e-de-gramat
END:VEVENT
END:VCALENDAR
