BEGIN:VCALENDAR
VERSION:2.0
PRODID:-//https://arcea-cesta.ovh///NONSGML kigkonsult.se iCalcreator 2.10.15//
METHOD:PUBLISH
BEGIN:VEVENT
UID:20260422T125238CEST-4951L3DtHI@https://arcea-cesta.ovh/
DTSTAMP:20260422T105238Z
DESCRIPTION:Accès direct au fichier  \n \n\n  https://arcea-cesta.ovh/index
 .php/activites/calendrier-dactivites-voyages-visites-repas/calendrier-even
 ements-passes/evenement/26-visite-du-phare-de-cordouan
DTSTART:20240621T041500Z
DTEND:20240621T173000Z
LOCATION:Pointe de Grave ()
SUMMARY:Visite du phare de Cordouan
URL:https://arcea-cesta.ovh/index.php/activites/calendrier-dactivites-voyag
 es-visites-repas/calendrier-evenements-passes/evenement/26-visite-du-phare
 -de-cordouan
END:VEVENT
END:VCALENDAR
