BEGIN:VCALENDAR
VERSION:2.0
PRODID:-//https://arcea-cesta.ovh///NONSGML kigkonsult.se iCalcreator 2.10.15//
METHOD:PUBLISH
BEGIN:VEVENT
UID:20260422T125415CEST-8156ZluGmH@https://arcea-cesta.ovh/
DTSTAMP:20260422T105415Z
DESCRIPTION:Accès direct au fichier pdf  \n \n https://arcea-cesta.ovh/inde
 x.php/activites/calendrier-dactivites-voyages-visites-repas/calendrier-eve
 nements-passes/evenement/25-une-journee-en-region-darmagnac
DTSTART:20240423T053000Z
DTEND:20240423T170000Z
LOCATION:Gers ()
SUMMARY:Une journée en région d'Armagnac
URL:https://arcea-cesta.ovh/index.php/activites/calendrier-dactivites-voyag
 es-visites-repas/calendrier-evenements-passes/evenement/25-une-journee-en-
 region-darmagnac
END:VEVENT
END:VCALENDAR
