BEGIN:VCALENDAR
VERSION:2.0
PRODID:-//https://arcea-cesta.ovh///NONSGML kigkonsult.se iCalcreator 2.10.15//
METHOD:PUBLISH
BEGIN:VEVENT
UID:20260422T125010CEST-85691gV4u4@https://arcea-cesta.ovh/
DTSTAMP:20260422T105010Z
DESCRIPTION:Accès direct à la convocation  \nAccès direct au bulletin d'ins
 cription  \n \n\n \n https://arcea-cesta.ovh/index.php/activites/calendrie
 r-dactivites-voyages-visites-repas/calendrier-evenements-passes/evenement/
 24-assemblee-annuelle-2024
DTSTART:20240319T083000Z
DTEND:20240319T133000Z
LOCATION:Amphi ILP ()
SUMMARY:Assemblée annuelle 2024
URL:https://arcea-cesta.ovh/index.php/activites/calendrier-dactivites-voyag
 es-visites-repas/calendrier-evenements-passes/evenement/24-assemblee-annue
 lle-2024
END:VEVENT
END:VCALENDAR
