BEGIN:VCALENDAR
VERSION:2.0
PRODID:-//https://arcea-cesta.ovh///NONSGML kigkonsult.se iCalcreator 2.10.15//
METHOD:PUBLISH
BEGIN:VEVENT
UID:20260422T125358CEST-3383IzHXPG@https://arcea-cesta.ovh/
DTSTAMP:20260422T105358Z
DESCRIPTION:IMPORTANT ! L'exposé de Dominique Pirotais débutera à 9h (et no
 n pas à 9h30 comme précisé dans le mail de rappel du 07 janvier).\n \nAccè
 s direct au document pdf  \n \n https://arcea-cesta.ovh/index.php/activite
 s/calendrier-dactivites-voyages-visites-repas/calendrier-evenements-passes
 /evenement/22-conference-sur-les-vehicules-hypersoniques-manoeuvrants
DTSTART:20240124T080000Z
DTEND:20240124T110000Z
LOCATION:Amphi ILP ()
SUMMARY:Conférence sur les véhicules hypersoniques manoeuvrants
URL:https://arcea-cesta.ovh/index.php/activites/calendrier-dactivites-voyag
 es-visites-repas/calendrier-evenements-passes/evenement/22-conference-sur-
 les-vehicules-hypersoniques-manoeuvrants
END:VEVENT
END:VCALENDAR
