BEGIN:VCALENDAR
VERSION:2.0
PRODID:-//https://arcea-cesta.ovh///NONSGML kigkonsult.se iCalcreator 2.10.15//
METHOD:PUBLISH
BEGIN:VEVENT
UID:20260422T124933CEST-0081UMv3jW@https://arcea-cesta.ovh/
DTSTAMP:20260422T104933Z
DESCRIPTION:Accès direct au fichier pdf   \n \n https://arcea-cesta.ovh/ind
 ex.php/activites/calendrier-dactivites-voyages-visites-repas/calendrier-ev
 enements-passes/evenement/21-repas-dautomne-2023
DTSTART:20231116T110000Z
DTEND:20231116T140000Z
LOCATION:Restaurant Les Ailes- Léognan ()
SUMMARY:Repas d'automne 2023
URL:https://arcea-cesta.ovh/index.php/activites/calendrier-dactivites-voyag
 es-visites-repas/calendrier-evenements-passes/evenement/21-repas-dautomne-
 2023
END:VEVENT
END:VCALENDAR
