BEGIN:VCALENDAR
VERSION:2.0
PRODID:-//https://arcea-cesta.ovh///NONSGML kigkonsult.se iCalcreator 2.10.15//
METHOD:PUBLISH
BEGIN:VEVENT
UID:20260422T125450CEST-0553C6nXrc@https://arcea-cesta.ovh/
DTSTAMP:20260422T105450Z
DESCRIPTION:Accès direct au fichier pdf  \n \n https://arcea-cesta.ovh/inde
 x.php/activites/calendrier-dactivites-voyages-visites-repas/calendrier-eve
 nements-passes/evenement/17-portes-ouvertes-dans-les-graves-exposition-et-
 atelier-bonsai
DTSTART:20231014T080000Z
DTEND:20231015T170000Z
LOCATION:Château Magneau ()
SUMMARY:Portes ouvertes dans les Graves : exposition et atelier bonsaï
URL:https://arcea-cesta.ovh/index.php/activites/calendrier-dactivites-voyag
 es-visites-repas/calendrier-evenements-passes/evenement/17-portes-ouvertes
 -dans-les-graves-exposition-et-atelier-bonsai
END:VEVENT
END:VCALENDAR
